BEGIN:VCALENDAR
VERSION:2.0
PRODID:-//eventon.com NONSGML v1.0//EN
CALSCALE:GREGORIAN
METHOD:PUBLISH
BEGIN:VEVENT
UID:69e9db2937a73
DTSTAMP:20260423T084113Z
DTSTART:20220405T150000Z
DTEND:20220405T155500Z
LOCATION:
SUMMARY:GoPiYoga Online
DESCRIPTION:GoPiYoga Online\nhttps://gosiamielech.com/events/gopiyoga-onlin
 e-2/
URL:https://gosiamielech.com/events/gopiyoga-online-2/
END:VEVENT
END:VCALENDAR