BEGIN:VCALENDAR
VERSION:2.0
PRODID:-//eventon.com NONSGML v1.0//EN
CALSCALE:GREGORIAN
METHOD:PUBLISH
BEGIN:VEVENT
UID:69e9f20b6ca95
DTSTAMP:20260423T101851Z
DTSTART:20210717T170000Z
DTEND:20210717T073000Z
LOCATION:Olsztyński Teatr Tańca // Centrum Edukacji i Inicjatyw Kulturalnych w Olsztynie Olsztyn
SUMMARY:FearLess
DESCRIPTION:FearLess\nhttps://gosiamielech.com/events/fearless-5/
URL:https://gosiamielech.com/events/fearless-5/
END:VEVENT
END:VCALENDAR